BEGIN:VCALENDAR
VERSION:2.0
PRODID:-//Cycle Rwanda Tours - ECPv6.15.20//NONSGML v1.0//EN
CALSCALE:GREGORIAN
METHOD:PUBLISH
X-WR-CALNAME:Cycle Rwanda Tours
X-ORIGINAL-URL:https://cyclerwandatours.com
X-WR-CALDESC:Events for Cycle Rwanda Tours
REFRESH-INTERVAL;VALUE=DURATION:PT1H
X-Robots-Tag:noindex
X-PUBLISHED-TTL:PT1H
BEGIN:VTIMEZONE
TZID:UTC
BEGIN:STANDARD
TZOFFSETFROM:+0000
TZOFFSETTO:+0000
TZNAME:UTC
DTSTART:20240101T000000
END:STANDARD
END:VTIMEZONE
BEGIN:VEVENT
DTSTART;VALUE=DATE:20250217
DTEND;VALUE=DATE:20250220
DTSTAMP:20260420T110940
CREATED:20250119T123754Z
LAST-MODIFIED:20250124T104347Z
UID:1420-1739750400-1740009599@cyclerwandatours.com
SUMMARY:Guided biking the Congo Nile trail in 3 days
DESCRIPTION:EXPLORE THE TOUR\n\n\n\n\n\n\nDAY 1 GISENYI-KINUNU 41 km \nAfter eating your breakfast\, Start the ride in the morning where you will cycle from Gisenyi to Kinunu for 41 kms cycling on the shores of lake Kivu through villages\, coffee and banana plantations\, at the end enjoy a magical evening at the water\, visit the coffee washing station and spend the night there. \nDuration: 5-6 hours \nAccommodation: Kinunu guest house \nDAY 2 KINUNU-BUMBA 29 km \nStart off with early breakfast and with your packed lunch\, jump back on your bike today and take on a hilly ride from  Kinunu biking around Lake Kivu\, exploring fishing villages and interacting with local people along the way. Overnight at the Bumba camping site near Rutsiro district headquarter. Accommodation: Bumba guest house \nDuration: 5-6 hours \nAccommodation: Bumba base Camp \nDAY 3 BUMBA-KIBUYE 33 km \nEarly breakfast at Bumba campsite with packed lunch begins your biking tour down and uphills for 17 km on dirty roads and 16 kms on tarmac road till Kibuye town\, with very great panoramic views. On arrival\, rest your weary legs and perhaps reward yourself with a refreshing drink and celebrate the tour’s accomplishments. \nDuration: 4-5 hours \nAfter eating your lunch in Kibuye\, Our driver will transfer you from Kibuye to Kigali. \n\n\n\n\n\n\nIncluded\n\n\n\n\n\n\n\n\n\n\n\n\nBike & helmet\,\nLunch and  bottled water along the way\nAn English or French speaking guide.
URL:https://cyclerwandatours.com/upcoming-tours/explore-gisenyis-lake-shore-by-bike-and-boat-trip-in-lake-kivu/
LOCATION:Congo Nile trail\, Western province\, Rubavu\, Rutsiro and Karongi\, western\, Rwanda
CATEGORIES:Cycling
ORGANIZER;CN="CYCLE RWANDA TOURS LTD":MAILTO:cyclerwandatours@gmail.com
END:VEVENT
END:VCALENDAR